BEGIN:VCALENDAR
VERSION:2.0
PRODID:-//Fuengirola - ECPv4.6.22//NONSGML v1.0//EN
CALSCALE:GREGORIAN
METHOD:PUBLISH
X-WR-CALNAME:Fuengirola
X-ORIGINAL-URL:https://www.fuengirola.es
X-WR-CALDESC:Eventos para Fuengirola
BEGIN:VEVENT
DTSTART;VALUE=DATE:20260426
DTEND;VALUE=DATE:20260427
DTSTAMP:20260425T190747
CREATED:20260424T105616Z
LAST-MODIFIED:20260424T105616Z
UID:46991-1777161600-1777247999@www.fuengirola.es
SUMMARY:ACTIVIDAD DEPORTIVA DOMINGO
DESCRIPTION:\n\nCOMPLEJO DEPORTIVO ELOLA\n\nPABELLÓNES N.º 1 Y 2: LIGA LOCAL FÚTBOL SALA (AD INARPE)\n\nDE 09:00 A 15:00 HORAS\n\n\nCAMPO CÉSPED ARTIFICIAL: FUGEPESIS 2026 (SUPERPESIS)\n\nPARTIDO INAUGURAL MASCULINO LIGA FINLANDESA DE PESÄPALLO (BÉISBOL FINLANDÉS)\n14:00 HORAS: ALAJÄRVEN ANKKURIT VS PATTIJOEN URHEILIJAT\n\n\n\n\n\n  \n\n\nCAMPO MUNICIPAL DE FÚTBOL SUEL (CARLOS GÓMEZ MERINO)\n\nCAMPO CÉSPED ARTIFICIAL: FÚTBOL 11 – 2ª ANDALUZA JUVENIL (GRUPO ÚNICO)\n\n10:30 HORAS: ATHLETIC CLUB FUENGIROLA VS LA UNIADAD NUEVA MÁLAGA\n\n\nCAMPO CÉSPED ARTIFICIAL: FÚTBOL 11 – 3ª ANDALUZA CADETE (GRUPO 2)\n\n13:30 HORAS: ATHLETIC CLUB FUENGIROLA VS FÚTBOL ROMERAL (B)\n\n\n\n\n\n  \n\n\nESTADIO MUNICIPAL DE DEPORTES SANTA FE DE LOS BOLICHES (ANTONIO BASILIO)\n\nCAMPO CÉSPED ARTIFICIAL: FÚTBOL 11 – 4ª ANDALUZA INFANTIL (GRUPO 8)\n\n10:30 HORAS: UD FUENGIROLA/LOS BOLICHES VS BENALMÁDENA ATLÉTICO (B)\n\n\nCAMPO CÉSPED ARTIFICIAL: FÚTBOL 11 – 3ª ANDALUZA JUVENIL (GRUPO 2)\n\n12:30 HORAS: UD FUENGIROLA/LOS BOLICHES VS PEÑA COMPADRES\n\n\n\n\n\n  \n
URL:https://www.fuengirola.es/evento/actividad-deportiva-domingo-3/
CATEGORIES:Deportes
END:VEVENT
END:VCALENDAR