BEGIN:VCALENDAR
VERSION:2.0
PRODID:-//Fuengirola - ECPv4.6.22//NONSGML v1.0//EN
CALSCALE:GREGORIAN
METHOD:PUBLISH
X-WR-CALNAME:Fuengirola
X-ORIGINAL-URL:https://www.fuengirola.es
X-WR-CALDESC:Eventos para Fuengirola
BEGIN:VEVENT
DTSTART;VALUE=DATE:20260301
DTEND;VALUE=DATE:20260302
DTSTAMP:20260423T195123
CREATED:20260226T094657Z
LAST-MODIFIED:20260226T094657Z
UID:46076-1772323200-1772409599@www.fuengirola.es
SUMMARY:ACTIVIDAD DEPORTIVA DOMINGO
DESCRIPTION:  \n\n\nCOMPLEJO DEPORTIVO ELOLA\n\nPABELLÓN N.º 2: LIGA FÚTBOL SALA LOCAL FUENGIROLA (AD INARPE)\n\nDE 09:00 A 15:00 HORAS\n\n\nCAMPO CÉSPED ARTIFICIAL: LIGA ANDALUZA FLAG FOOTBALL SUB15\n\n10:00 HORAS: CD EAGLES FOOTBALL VS SFDO49ERS\n10:00 HORAS: CD ALJARAFE BLUE DEVILS VS CD POTROS FUENGIROLA\n12:20 HORAS: CD POTROS FUENGIROLA VS CD EAGLES FOOTBALL\n12:20 HORAS: SFDO49ERS VS CD ALJARAFE BLUE DEVILS\n\n\nCAMPO CÉSPED ARTIFICIAL: LIGA ANDALUZA FLAG FOOTBALL SUB17\n\n11:10 HORAS: CD POTROS FUENGIROLA VS CD SEVILLA EAGLES\n11:10 HORAS: MÁLAGA CORSAIRS U17 VS CD LINCES\n13:30 HORAS: CD SEVILLA EAGLES VS CD LINCES\n13:30 HORAS: CD POTROS FUENGIROLA VS MÁLAGA CORSAIRS U17\n\n\n\n\n\n  \n\n\nCAMPO MUNICIPAL DE FÚTBOL SUEL (CARLOS GÓMEZ MERINO)\n\nCAMPO CÉSPED ARTIFICIAL: FÚTBOL 11 – 3ª ANDALUZA CADETE (GRUPO 2)\n\n10:00 HORAS: ATHLETIC CLUB FUENGIROLA VS ESTEPONA FÚTBOL BASE\n\n\nCAMPO CÉSPED ARTIFICIAL: FÚTBOL 11 – 3ª ANDALUZA INFANTIL (GRUPO 2)\n\n12:00 HORAS: ATHLETIC CLUB FUENGIROLA VS UNIÓN MANILVA\n\n\n\n\n\n  \n\n\nESTADIO MUNICIPAL DE DEPORTES SANTA FE DE LOS BOLICHES (ANTONIO BASILIO)\n\nCAMPO CÉSPED ARTIFICIAL: FÚTBOL 7 – 4ª ANDALUZA BENJAMÍN (GRUPO 8)\n\n10:15 HORAS: UD FUENGIROLA/LOS BOLICHES (A) VS ASO. DEP. BENALMÁDENA (A)\n\n\nCAMPO CÉSPED ARTIFICIAL: FÚTBOL 7 – 4ª ANDALUZA BENJAMÍN (GRUPO 11)\n\n10:15 HORAS: UD FUENGIROLA/LOS BOLICHES (B) VS ESTEPONENSE (A)\n\n\nPABELLÓN N.º 2: VOLEIBOL – SEGUNDA ANDALUZA FEMENINA (GRUPO 4 B)\n\n12:00 HORAS: CLUB VOLEIBOL FUENGIROLA (B) VS LA CORACHA\n\n\nCAMPO CÉSPED ARTIFICIAL: FÚTBOL 11 – 1ª ANDALUZA SÉNIOR (GRUPO ÚNICO)\n\n12:15 HORAS: UD FUENGIROLA/LOS BOLICHES VS ESTEPONA FÚTBOL SÉNIOR\n\n\n\n\n\n  \n
URL:https://www.fuengirola.es/evento/actividad-deportiva-domingo-8/
CATEGORIES:Deportes
END:VEVENT
END:VCALENDAR