BEGIN:VCALENDAR
VERSION:2.0
PRODID:-//Fuengirola - ECPv4.6.22//NONSGML v1.0//EN
CALSCALE:GREGORIAN
METHOD:PUBLISH
X-WR-CALNAME:Fuengirola
X-ORIGINAL-URL:https://www.fuengirola.es
X-WR-CALDESC:Eventos para Fuengirola
BEGIN:VEVENT
DTSTART;VALUE=DATE:20260101
DTEND;VALUE=DATE:20260201
DTSTAMP:20260425T000154
CREATED:20260109T110156Z
LAST-MODIFIED:20260109T110156Z
UID:45269-1767225600-1769903999@www.fuengirola.es
SUMMARY:PROGRAMA CULTURAL ENERO
DESCRIPTION:
URL:https://www.fuengirola.es/evento/programa-cultural-enero/
LOCATION:FUENGIROLA
CATEGORIES:Cultura
ATTACH;FMTTYPE=image/jpeg:https://www.fuengirola.es/wp-content/uploads/2026/01/MUPI_page-0001-4.jpg
END:VEVENT
END:VCALENDAR