BEGIN:VCALENDAR
VERSION:2.0
PRODID:-//Fuengirola - ECPv4.6.22//NONSGML v1.0//EN
CALSCALE:GREGORIAN
METHOD:PUBLISH
X-WR-CALNAME:Fuengirola
X-ORIGINAL-URL:https://www.fuengirola.es
X-WR-CALDESC:Eventos para Fuengirola
BEGIN:VEVENT
DTSTART;TZID=Europe/Madrid:20260303T000000
DTEND;TZID=Europe/Madrid:20260326T000000
DTSTAMP:20260423T201912
CREATED:20260303T084826Z
LAST-MODIFIED:20260303T084826Z
UID:46124-1772496000-1774483200@www.fuengirola.es
SUMMARY:PROGRAMACIÓN "FUENGIROLA POR ELLAS"
DESCRIPTION:La Concejalía de Familias\, Igualdad y Bienestar Social\, por tercer año consecutivo\,  va a llevar a cabo el Programa “FUENGIROLA POR ELLAS”\, una programación completa y variada con más de una veintena  de actividades para conmemorar el Día Internacional de la Mujer \nSe trata de un programa de sensibilización en el que han participado  las Concejalías de Deportes\, la Concejalía de Cultura y la Concejalía de Educación. La implicación  de las diferentes áreas  refuerza el compromiso de nuestro Ayuntamiento de seguir luchando por  la igualdad real y efectiva entre mujeres y hombres y de integrar la perspectiva de género en las actividades y programas que se desarrollan desde las diferentes áreas. \nToda una serie de actividades que invitarán a la participación\, a la  reflexión sobre las desigualdades estructurales que aún persisten\, pero también a reconocer los avances conseguidos por generaciones de mujeres que han trabajado por la igualdad. Es fundamental visibilizar referentes\,  celebrar los logros y la contribución de las mujeres en los distintos ámbitos. \n
URL:https://www.fuengirola.es/evento/programacion-fuengirola-por-ellas/
CATEGORIES:Familias, Igualdad y Bienestar Social
ATTACH;FMTTYPE=image/jpeg:https://www.fuengirola.es/wp-content/uploads/2026/03/Programacion-8M-2026_page-0001.jpg
END:VEVENT
END:VCALENDAR