BEGIN:VCALENDAR
VERSION:2.0
PRODID:-//Fuengirola - ECPv4.6.22//NONSGML v1.0//EN
CALSCALE:GREGORIAN
METHOD:PUBLISH
X-WR-CALNAME:Fuengirola
X-ORIGINAL-URL:https://www.fuengirola.es
X-WR-CALDESC:Eventos para Fuengirola
BEGIN:VEVENT
DTSTART;TZID=Europe/Madrid:20260423T080000
DTEND;TZID=Europe/Madrid:20260423T170000
DTSTAMP:20260425T191048
CREATED:20260424T103536Z
LAST-MODIFIED:20260424T105557Z
UID:46973-1776931200-1776963600@www.fuengirola.es
SUMMARY:Taller de Dibujo
DESCRIPTION:La concejalía de Juventud organiza un taller  gratuito de iniciación al dibujo y dibujo urbano para jóvenes con edades comprendidas entre los 16 y 35 años. \n  \n¿En qué consiste? \nUn espacio creativo donde podrás aprender técnicas básicas de dibujo\, experimentar con el dibujo urbano y desarrollar tu propio estilo\, independientemente de tu nivel. \n  \n\nAprenderás de forma práctica y dinámica.\nConocerás a otros jóvenes con tus mismas inquietudes.\nDescubrirás nuevas formas de expresarte a través del arte.\n\n  \n¿Cómo inscribirte? \n  \nA través de la Tarjeta Ciudadana a partir del 24 de abril desde las 18:00 horas. \n  \n¿Cuándo y dónde se realiza? \n  \nDías 13 y 20 de mayo en el Edificio Colores en horario de 18:00 a 21:00 horas. \nDía 31 de mayo al aire libre  de 10:00 a 14:00 horas. \n  \nLas plazas son limitadas\, así que te esperamos para dibujar la Ciudad juntos. \n  \n
URL:https://www.fuengirola.es/evento/taller-de-dibujo/
CATEGORIES:Juventud
ATTACH;FMTTYPE=image/jpeg:https://www.fuengirola.es/wp-content/uploads/2026/04/Taller-de-pintura.jpg
END:VEVENT
END:VCALENDAR